BEGIN:VCALENDAR
VERSION:2.0
PRODID:-//La Sagrerina - ECPv5.0.3.1//NONSGML v1.0//EN
CALSCALE:GREGORIAN
METHOD:PUBLISH
X-WR-CALNAME:La Sagrerina
X-ORIGINAL-URL:https://lasagrerina.com
X-WR-CALDESC:Events for La Sagrerina
BEGIN:VTIMEZONE
TZID:Europe/Andorra
BEGIN:DAYLIGHT
TZOFFSETFROM:+0100
TZOFFSETTO:+0200
TZNAME:CEST
DTSTART:20260329T010000
END:DAYLIGHT
BEGIN:STANDARD
TZOFFSETFROM:+0200
TZOFFSETTO:+0100
TZNAME:CET
DTSTART:20261025T010000
END:STANDARD
END:VTIMEZONE
BEGIN:VEVENT
DTSTART;TZID=Europe/Andorra:20260307T113000
DTEND;TZID=Europe/Andorra:20260307T220000
DTSTAMP:20260422T132558
CREATED:20260304T121850Z
LAST-MODIFIED:20260304T122947Z
UID:15303-1772883000-1772920800@lasagrerina.com
SUMMARY:DONES DE FOC
DESCRIPTION:Arriba a la Sagrera una jornada farcida d’activitats per mostrar el paper de les dones en la cultura del foc amb la següent escaleta: \nTORRE DE LA SAGRERA: \n\n11.30h Xerrada: Qui ocupa l’espai?\n12.15h Dones de llegenda\n13h Festa inclusiva del “”podeu venir”” al “”hi sou””.\n13.30h Vermut i Concurs dinar diabólic.\n15h Bonigo musical Feminisa\n17h Taller simultanis:\n\nProva a fer de diable\, fes la teva maça (infantil)\nEstampació 8m edition\nIniciació als malabars de foc (adults)\n\n\n\n\nPLAÇA DE L’ASSAMBLEA DE CATALUNYA:\n\n18.30h Tabalada Feminista fins a \n19.30 Correfoc estàtic infantil Femení\n20h Lectura de versots feministes.\n20h Correfoc femení Diablesses\n20:30h Cremada FEMINISTA com a simbol d’EQUITAT.\nA càrrec de Dracs\, Diables i Gegants de la Sagrera i la Federació de diables de Barcelonaona.\n\n \nNo t'ho guardis només per a tu!
URL:https://lasagrerina.com/activitat/15303/
LOCATION:Diversos espais\, Barcelona\, Barcelona\, 08027\, España
CATEGORIES:Activitat,Activitat destacada,dia de la dona,Feminisme,Tallers,Tradicions,Xerrades
ATTACH;FMTTYPE=image/png:https://lasagrerina.com/wp-content/uploads/2026/03/donesfoc-1-destacada.png
END:VEVENT
END:VCALENDAR