BEGIN:VCALENDAR
VERSION:2.0
PRODID:-//La Sagrerina - ECPv5.0.3.1//NONSGML v1.0//EN
CALSCALE:GREGORIAN
METHOD:PUBLISH
X-WR-CALNAME:La Sagrerina
X-ORIGINAL-URL:https://lasagrerina.com
X-WR-CALDESC:Events for La Sagrerina
BEGIN:VTIMEZONE
TZID:Europe/Andorra
BEGIN:DAYLIGHT
TZOFFSETFROM:+0100
TZOFFSETTO:+0200
TZNAME:CEST
DTSTART:20250330T010000
END:DAYLIGHT
BEGIN:STANDARD
TZOFFSETFROM:+0200
TZOFFSETTO:+0100
TZNAME:CET
DTSTART:20251026T010000
END:STANDARD
END:VTIMEZONE
BEGIN:VEVENT
DTSTART;TZID=Europe/Andorra:20251213T110000
DTEND;TZID=Europe/Andorra:20251213T143000
DTSTAMP:20260425T004807
CREATED:20251124T105908Z
LAST-MODIFIED:20251124T105908Z
UID:14208-1765623600-1765636200@lasagrerina.com
SUMMARY:CIRCUIT DE LES JOGUINES 2025
DESCRIPTION:Arriba la cinquena edició del circuit de les joguines a la Sagrera\, un mercat d’intercanvi i reparació de joguines per a totes les famílies. \nEn què consisteix aquesta edició? Compartirem tot un matí\, on aprendre a donar nous usos\, reparar i intercanviar les joguines per promoure el consum responsable\, sobretot en les dates de Nadal. \n12h  Espectacle sorprenent i inoblidable: “Màgia xixaraxera”. Totes les joguines recollides durant aquesta jornada\, es donaran a la campanya de Reis del barri de La Sagrera.  \nL’acte tindrà lloc als Jardins d’Elx de 10 h a 13.30 h. \nActivitiat Coorganitzada amb el Casal de barri Torre de la Sagrera i la Campanya de Reis de la Parroquia Crist Rei de la Sagrera. \nEspectacle a càrrec de Xaxi Espectacles. \nNo t'ho guardis només per a tu!
URL:https://lasagrerina.com/activitat/circuit-de-les-joguines-2025/
LOCATION:Plaça d’elx\, Plaça Jardins d'elx\, Barcelona\, Barcelona\, 08027\, España
CATEGORIES:Activitat destacada,En família,Infantil
ATTACH;FMTTYPE=image/png:https://lasagrerina.com/wp-content/uploads/2025/11/circuit-joguines-800x679-1.png
ORGANIZER;CN="Torre%20de%20la%20Sagrera":MAILTO:info@torrelasagrera.cat
END:VEVENT
END:VCALENDAR