BEGIN:VCALENDAR
VERSION:2.0
PRODID:-//La Sagrerina - ECPv5.0.3.1//NONSGML v1.0//EN
CALSCALE:GREGORIAN
METHOD:PUBLISH
X-WR-CALNAME:La Sagrerina
X-ORIGINAL-URL:https://lasagrerina.com
X-WR-CALDESC:Events for La Sagrerina
BEGIN:VTIMEZONE
TZID:Europe/Andorra
BEGIN:DAYLIGHT
TZOFFSETFROM:+0100
TZOFFSETTO:+0200
TZNAME:CEST
DTSTART:20260329T010000
END:DAYLIGHT
BEGIN:STANDARD
TZOFFSETFROM:+0200
TZOFFSETTO:+0100
TZNAME:CET
DTSTART:20261025T010000
END:STANDARD
END:VTIMEZONE
BEGIN:VEVENT
DTSTART;TZID=Europe/Andorra:20260509T190000
DTEND;TZID=Europe/Andorra:20260509T200000
DTSTAMP:20260423T125714
CREATED:20260421T112628Z
LAST-MODIFIED:20260421T112643Z
UID:16072-1778353200-1778356800@lasagrerina.com
SUMMARY:Concert coral a La Sagrera: “La cançó més bonica del món”
DESCRIPTION:L’Associació La Sagrera Es Mou celebra els seus 15 anys amb un concert especial basat en l’obra de Miquel Desclot. Les corals Veus de la Sagrera i Cantem oferiran una actuació amb música\, narració i piano en directe. \n \nNo t'ho guardis només per a tu!
URL:https://lasagrerina.com/activitat/concert-coral-a-la-sagrera-la-canco-mes-bonica-del-mon/
LOCATION:Espai 30\, Carrer d’Hondures\, 30\, Barcelona\, Barcelona\, 08027\, España
CATEGORIES:Activitat,Activitat destacada,Concerts
ATTACH;FMTTYPE=image/jpeg:https://lasagrerina.com/wp-content/uploads/2026/04/lsem1-copia_destacada.jpg
END:VEVENT
END:VCALENDAR