BEGIN:VCALENDAR
VERSION:2.0
PRODID:-//La Sagrerina - ECPv5.0.3.1//NONSGML v1.0//EN
CALSCALE:GREGORIAN
METHOD:PUBLISH
X-WR-CALNAME:La Sagrerina
X-ORIGINAL-URL:https://lasagrerina.com
X-WR-CALDESC:Events for La Sagrerina
BEGIN:VTIMEZONE
TZID:Europe/Andorra
BEGIN:DAYLIGHT
TZOFFSETFROM:+0100
TZOFFSETTO:+0200
TZNAME:CEST
DTSTART:20260329T010000
END:DAYLIGHT
BEGIN:STANDARD
TZOFFSETFROM:+0200
TZOFFSETTO:+0100
TZNAME:CET
DTSTART:20261025T010000
END:STANDARD
END:VTIMEZONE
BEGIN:VEVENT
DTSTART;TZID=Europe/Andorra:20260311T173000
DTEND;TZID=Europe/Andorra:20260311T190000
DTSTAMP:20260422T133036
CREATED:20260304T123314Z
LAST-MODIFIED:20260304T123433Z
UID:15314-1773250200-1773255600@lasagrerina.com
SUMMARY:COSSOS VÀLIDS
DESCRIPTION:\n\nA través de diferents dinàmiques lúdiques a partir del recull de fotografies de diferents cossos de dones\, i del teatre social recreant escenes quotidianes amb discursos patriarcals es generarà un debat per treballar la problemàtica de la pressió estètica qüestionant els cànons estètics que rebem constantment per part de la societat. Aquesta activitat es portarà a terme a l’Espai Jove Garcila \nA través de diferents dinàmiques lúdiques a partir del recull de fotografies de diferents cossos de dones\, i del teatre social recreant escenes quotidianes amb discursos patriarcals es generarà un debat per treballar la problemàtica de la pressió estètica qüestionant els cànons estètics que rebem constantment per part de la societat. \nAquesta activitat es portarà a terme a l‘Espai Jove Garcilaso \nA càrrec de Dones sumem Veus. \n\nNo t'ho guardis només per a tu!
URL:https://lasagrerina.com/activitat/cossos-valids/
LOCATION:Espai Jove Garcilaso\, Garcilaso 103\, Barcelona\, Barcelona\, 08027\, España
CATEGORIES:Activitat,Activitat destacada,dia de la dona,Feminisme,Teatre
ATTACH;FMTTYPE=image/png:https://lasagrerina.com/wp-content/uploads/2026/03/dona_destacada-copia.png
ORGANIZER;CN="Espai%20Jove%20Garcilaso":MAILTO:nfo@espaijovegarcilaso.org
END:VEVENT
END:VCALENDAR