BEGIN:VCALENDAR
VERSION:2.0
PRODID:-//La Sagrerina - ECPv5.0.3.1//NONSGML v1.0//EN
CALSCALE:GREGORIAN
METHOD:PUBLISH
X-WR-CALNAME:La Sagrerina
X-ORIGINAL-URL:https://lasagrerina.com
X-WR-CALDESC:Events for La Sagrerina
BEGIN:VTIMEZONE
TZID:Europe/Andorra
BEGIN:DAYLIGHT
TZOFFSETFROM:+0100
TZOFFSETTO:+0200
TZNAME:CEST
DTSTART:20200329T010000
END:DAYLIGHT
BEGIN:STANDARD
TZOFFSETFROM:+0200
TZOFFSETTO:+0100
TZNAME:CET
DTSTART:20201025T010000
END:STANDARD
END:VTIMEZONE
BEGIN:VEVENT
DTSTART;TZID=Europe/Andorra:20200525T100000
DTEND;TZID=Europe/Andorra:20200619T190000
DTSTAMP:20260426T001102
CREATED:20200527T054227Z
LAST-MODIFIED:20200607T055710Z
UID:9874-1590400800-1592593200@lasagrerina.com
SUMMARY:Encreuats Sagrerins
DESCRIPTION: \nHORITZONTALS 1.- La de Catalunya està ben representada a La Sagrera\, i no precisament per rates. Article invertit al nostre barri. 2.- El petó sense oxigen sol fer pudor. Els del barri seran sempre nostres. 3.- Plaça arcada. Idea poc clara. 4.- Desgavellaré fins al punt que sortirà al revés. Al Metro de la Meridiana . 5.- En Colom i en Veciana són sagrerencs prou coneguts que comparteixen nom. En Günter és el més popular que trobaràs a la Trabookaire. 6.- Pair sense aliment bàsic. Igual pot acompanyar-la en Lluís Llach que la ciutat dels sants. La casa necessària. 7.- Millor encomanar-se a ells que no pas als daus. Lletra de La Sagrera. Insistim-hi. Gos que nega. 8.- Riu ben malament. Centre Cívic de La Sagrera. 9.- Ben repetida a La Sagrera. Produiré clarianes tot i que perdent el cap i fins i tot el coll. 10.- Al capdavall de La Sagrerina. Dues de La Sagrera. Is. Cada cop és més curta. 11.- Les de veïns són essencials. 12.- El 30 és al carrer Hondures. Serveix per agafar-s’hi.  \nVERTICALS 1.- Tan repetida a La Sagrera com a La Sagrerina. Talla el nostre barri i no precisament en paral·lel. 2.- De la taula\, en retirareu tot excepte la preposició inicial. Ruc que entra a qualsevol fase. 3- Aquest barri és més televisiu que La Sagrera\, però no és l’origen dels Elements de Protecció Individual. Li hem donat la volta per comprovar si es coïa. Millor a les matrícules de Sant Sebastià dels 80 que al Berlín dels 40. 4.- Alcohols primaris. Animal de conte vermellós que no se sap si té cap paràsit com el que apareix capgirat. 5.- Tan important per a en Martí com per a en Molins. Menja a migdia i de manera energètica. La Barraca sense cor pot fer-se a la mar. 6.- Les quatre primeres ben remenades. Plat que sol ser de vedella i que aquí apareix capgirat. Al nostre mercat volen dir segon. 7.- Sempre al teu costat per estar ben informat. 8.- Al capdavall del carrer. La part més occidental del Brasil. Rosca recargolada. 9.- El Santi més percussor que no treballà a la Pegaso però sí amb Pegasus. Estat que a La Sagrera apareix al revés. Per als partidaris de la independència són essencials. 10.- Part escollida del Cardenals Tedeschini. Així els ha quedat els cabells a molts que esperaven l’estació de gran velocitat de La Sagrera . 11.- Diari actual. Edulcorant que gairebé podria tenir arrels al barri. 12.- Igual ho fa pel Territori que per la Gent Gran o Pels Infants. Nota articular. Tens identitat per anar amb els uts. \nAutor: Jordi Vilagut \nMotsEncreuatsSagrerins-descarregar word \nSOLUCIONS \nNo t'ho guardis només per a tu!
URL:https://lasagrerina.com/activitat/encreuats-sagrerins/
LOCATION:Casa teva\, On visquis\, Barcelona\, Barcelona\, 08027\, España
CATEGORIES:Activitat destacada
ORGANIZER;CN="La%20Sagrerina.com":MAILTO:lasagrerina@gmail.com
END:VEVENT
END:VCALENDAR