BEGIN:VCALENDAR
VERSION:2.0
PRODID:-//La Sagrerina - ECPv5.0.3.1//NONSGML v1.0//EN
CALSCALE:GREGORIAN
METHOD:PUBLISH
X-WR-CALNAME:La Sagrerina
X-ORIGINAL-URL:https://lasagrerina.com
X-WR-CALDESC:Events for La Sagrerina
BEGIN:VTIMEZONE
TZID:Europe/Andorra
BEGIN:DAYLIGHT
TZOFFSETFROM:+0100
TZOFFSETTO:+0200
TZNAME:CEST
DTSTART:20200329T010000
END:DAYLIGHT
BEGIN:STANDARD
TZOFFSETFROM:+0200
TZOFFSETTO:+0100
TZNAME:CET
DTSTART:20201025T010000
END:STANDARD
END:VTIMEZONE
BEGIN:VEVENT
DTSTART;TZID=Europe/Andorra:20200218T193000
DTEND;TZID=Europe/Andorra:20200218T203000
DTSTAMP:20260422T175328
CREATED:20200218T051341Z
LAST-MODIFIED:20200218T051633Z
UID:7005-1582054200-1582057800@lasagrerina.com
SUMMARY:Espai de conversa
DESCRIPTION:Activitat d’Aprenentatge comunitari\nUn espai de trobada per a practicar l’anglès on les pròpies persones assistents s’autogestionaran\, aprendran les unes de les altres i agafaran agilitat en la conversa. \n\nDimarts de 18:30 a 19:30 h\nActivitat comunitària\, oberta i gratuïta\nOrganitza Grup de conversa comunitària\n\nNo t'ho guardis només per a tu!
URL:https://lasagrerina.com/activitat/espai-de-conversa-en-angles-copy/
LOCATION:Torre de la Sagrera\, Berenguer de Palou 64-66\, Barcelona\, Barcelona\, 08027\, España
CATEGORIES:Activitat destacada,Comunitat
ATTACH;FMTTYPE=image/jpeg:https://lasagrerina.com/wp-content/uploads/2020/02/anglés.jpg
END:VEVENT
END:VCALENDAR