BEGIN:VCALENDAR
VERSION:2.0
PRODID:-//La Sagrerina - ECPv5.0.3.1//NONSGML v1.0//EN
CALSCALE:GREGORIAN
METHOD:PUBLISH
X-WR-CALNAME:La Sagrerina
X-ORIGINAL-URL:https://lasagrerina.com
X-WR-CALDESC:Events for La Sagrerina
BEGIN:VTIMEZONE
TZID:Europe/Andorra
BEGIN:DAYLIGHT
TZOFFSETFROM:+0100
TZOFFSETTO:+0200
TZNAME:CEST
DTSTART:20260329T010000
END:DAYLIGHT
BEGIN:STANDARD
TZOFFSETFROM:+0200
TZOFFSETTO:+0100
TZNAME:CET
DTSTART:20261025T010000
END:STANDARD
END:VTIMEZONE
BEGIN:VEVENT
DTSTART;TZID=Europe/Andorra:20260123T183000
DTEND;TZID=Europe/Andorra:20260123T183000
DTSTAMP:20260424T172731
CREATED:20260121T111551Z
LAST-MODIFIED:20260121T111642Z
UID:14866-1769193000-1769193000@lasagrerina.com
SUMMARY:FESTIVAL SORORITÈ – PERFECTA PER A QUI?
DESCRIPTION:\nEntenem com a violència estètica\, la violència que patim les dones a través de la imposició d’una bellesa sexualitzada i gairebé impossible d’aconseguir minvant l’autoestima fins de la persona més forta i empoderada. No és subtil\, és un atac aclaparador que hem de detectar i començar a desconstruir. \nEls prejudicis són una arma de violència social. A través d’aquesta performance farem una reflexió profunda sobre la violència estètica amb una mirada de clown. Ho treballarem a través d’una sèrie de números sobre la pressió estètica que patim les dones al llarg de la nostra vida: dietes\, talles\, arrugues\, tints de cabell\, operacions estètiques… i els filtres de les temudes xarxes socials. \n\nNo t'ho guardis només per a tu!
URL:https://lasagrerina.com/activitat/festival-sororite-perfecta-per-a-qui/
LOCATION:Torre de la Sagrera\, Berenguer de Palou 64-66\, Barcelona\, Barcelona\, 08027\, España
CATEGORIES:Activitat destacada,Arts escèniques
ATTACH;FMTTYPE=image/png:https://lasagrerina.com/wp-content/uploads/2026/01/sororite.png
ORGANIZER;CN="Torre%20de%20la%20Sagrera":MAILTO:info@torrelasagrera.cat
END:VEVENT
END:VCALENDAR