BEGIN:VCALENDAR
VERSION:2.0
PRODID:-//La Sagrerina - ECPv5.0.3.1//NONSGML v1.0//EN
CALSCALE:GREGORIAN
METHOD:PUBLISH
X-WR-CALNAME:La Sagrerina
X-ORIGINAL-URL:https://lasagrerina.com
X-WR-CALDESC:Events for La Sagrerina
BEGIN:VTIMEZONE
TZID:Europe/Andorra
BEGIN:DAYLIGHT
TZOFFSETFROM:+0100
TZOFFSETTO:+0200
TZNAME:CEST
DTSTART:20260329T010000
END:DAYLIGHT
BEGIN:STANDARD
TZOFFSETFROM:+0200
TZOFFSETTO:+0100
TZNAME:CET
DTSTART:20261025T010000
END:STANDARD
END:VTIMEZONE
BEGIN:VEVENT
DTSTART;TZID=Europe/Andorra:20260305T063000
DTEND;TZID=Europe/Andorra:20260319T193000
DTSTAMP:20260424T162159
CREATED:20260305T160131Z
LAST-MODIFIED:20260305T160131Z
UID:15329-1772692200-1773948600@lasagrerina.com
SUMMARY:Inauguració de l’exposició Our Ladies of Sorrow
DESCRIPTION:La Sala Basiana de la Nau Bostik acull la inauguració de l’exposició Our Ladies of Sorrow\, de l’artista Akira Signore\, una proposta pictòrica plena de simbolisme i colors intensos que explora emocions\, espiritualitats i imaginacions contemporànies. \nLa inauguració inclourà una xerrada amb l’artista\, que compartirà el procés creatiu i el context de les obres exposades. La mostra està comissariada per Ephemeral Art BCN. \n Dijous 5 de març 18.30 h Sala Basiana (Nau Bostik)️ Entrada gratuïta amb taquilla inversa. \n \nNo t'ho guardis només per a tu!
URL:https://lasagrerina.com/activitat/inauguracio-de-lexposicio-our-ladies-of-sorrow/
LOCATION:Associació Càspita (Nau Bostik)\, Carrer de Ferran Turné 1-11\, Barcelona\, Barcelona\, 08027\, España
CATEGORIES:Activitat,Activitat destacada,Exposicions,Xerrades
ATTACH;FMTTYPE=image/jpeg:https://lasagrerina.com/wp-content/uploads/2026/03/expo-basiana-copia_destacada.jpg
END:VEVENT
END:VCALENDAR