BEGIN:VCALENDAR
VERSION:2.0
PRODID:-//La Sagrerina - ECPv5.0.3.1//NONSGML v1.0//EN
CALSCALE:GREGORIAN
METHOD:PUBLISH
X-WR-CALNAME:La Sagrerina
X-ORIGINAL-URL:https://lasagrerina.com
X-WR-CALDESC:Events for La Sagrerina
BEGIN:VTIMEZONE
TZID:Europe/Andorra
BEGIN:DAYLIGHT
TZOFFSETFROM:+0100
TZOFFSETTO:+0200
TZNAME:CEST
DTSTART:20260329T010000
END:DAYLIGHT
BEGIN:STANDARD
TZOFFSETFROM:+0200
TZOFFSETTO:+0100
TZNAME:CET
DTSTART:20261025T010000
END:STANDARD
END:VTIMEZONE
BEGIN:VEVENT
DTSTART;TZID=Europe/Andorra:20260506T113000
DTEND;TZID=Europe/Andorra:20260603T130000
DTSTAMP:20260423T020504
CREATED:20260421T113422Z
LAST-MODIFIED:20260421T113422Z
UID:16079-1778067000-1780491600@lasagrerina.com
SUMMARY:Laboratori de dansa per a majors de 60 anys a l’Espai 30
DESCRIPTION:L’Espai 30 acull un laboratori de dansa adreçat a persones majors de 60 anys\, una proposta per explorar el moviment\, el cos i la creativitat en un ambient col·lectiu i accessible. \nPer participar-hi\, cal inscripció prèvia a: info@lightsonstage.org. \nUna activitat que promou el benestar\, l’expressió artística i la comunitat al barri. \n Tots els dimecres D’11:30 h a 13 h Espai 30 (Ateneu Sagrerenc\, c/ Hondures\, 30) \n \nNo t'ho guardis només per a tu!
URL:https://lasagrerina.com/activitat/laboratori-de-dansa-per-a-majors-de-60-anys-a-lespai-30/
LOCATION:Espai 30\, Carrer d’Hondures\, 30\, Barcelona\, Barcelona\, 08027\, España
CATEGORIES:Activitat,Activitat destacada,Arts escèniques
ATTACH;FMTTYPE=image/jpeg:https://lasagrerina.com/wp-content/uploads/2026/04/lsem2_destacada.jpg
ORGANIZER;CN="Espai%2030":MAILTO:info@fee30.cat
END:VEVENT
END:VCALENDAR