BEGIN:VCALENDAR
VERSION:2.0
PRODID:-//La Sagrerina - ECPv5.0.3.1//NONSGML v1.0//EN
CALSCALE:GREGORIAN
METHOD:PUBLISH
X-WR-CALNAME:La Sagrerina
X-ORIGINAL-URL:https://lasagrerina.com
X-WR-CALDESC:Events for La Sagrerina
BEGIN:VTIMEZONE
TZID:Europe/Andorra
BEGIN:DAYLIGHT
TZOFFSETFROM:+0100
TZOFFSETTO:+0200
TZNAME:CEST
DTSTART:20200329T010000
END:DAYLIGHT
BEGIN:STANDARD
TZOFFSETFROM:+0200
TZOFFSETTO:+0100
TZNAME:CET
DTSTART:20201025T010000
END:STANDARD
END:VTIMEZONE
BEGIN:VEVENT
DTSTART;VALUE=DATE:20200607
DTEND;VALUE=DATE:20200702
DTSTAMP:20260426T001050
CREATED:20200607T073119Z
LAST-MODIFIED:20200624T081959Z
UID:9968-1591495200-1593568799@lasagrerina.com
SUMMARY:Mots encreuats
DESCRIPTION: \nHORITZONTALS 1.- D’aquests establiments no n’hi ha a La Sagrera\, però a la xurreria de la Meridiana segur que us podrien satisfer sense donar-vos la del lloro. 2.- Al final del Rec Comtal. Carrer sense sortida. En una del Manuel de Pedrolo hi apareix La Sagrera. 3.- Unes vies tan inacabades com l’estació del Tren d’Alta Velocitat. Tornes a treure terra per veure si hi ha més restes romanes a les obres de l’AVE. 4.- Tan sinuosa que ha quedat mal girbada. Vocal discordant a La Sagrera. Amb la Nora se sentiria millor. 5.- Ateneu Sagrerenc. 6.- La Sagrera en té el doble que Sant Andreu. El niu s’ha descomposat. A l’inrevés\, i en dues paraules\, lletra que copula en castellà. 7.- Botó desoxigenat. X. Gira al revés. 8.- Qui sap si tenia intenció de tornar. La Marina de la biblioteca. 9.- Nom que surt del nostre barri si en traiem el cor. Tanca l’Heribert. 10.- Dos antics sagrerencs. Primer Museu Urbà de La Sagrera… i de Catalunya. 11.- La de cervesa te la pots prendre a la del Baix Ebre. Mitja nana. 12.- L’altra mitja. Si en Churchill no hagués optat pels puros se n’hauria pogut fumar uns quants d’aquests.  \nVERTICALS 1.- Porta mig segle retratant La Sagrera\, sense ell no hi hauria ni Nau Ivanow\, ni Espai 30 ni Nau Bostik\, i acaba lliscant per la darrera filera. 2.- Poble del Solsonès que acull un cementiri modernista. Al revés\, l’haurien de treure tot dels tallers que TMB té a La Sagrera. 3- La trobes al cap\, al cos i al cul. L’espia no es deixa veure complet. A La Sagrera apareixen en un ordre invers. Identifica el garatge subterrani de la plaça de l’Assemblea de Catalunya. 4.- El bruixot d’en Picanyol. Centre cultural sagrerenc amb un nom que ens evoca l’Europa de l’Est. 5.- La passegen per La Sagrera els conductors novells. La Corina s’ha fotut en un bon embolic. El més conegut dels Babà. 6.- Una mica més de mitja anestèsia. No fa plorar però sí fa plurals. Tros escollit del Naranjo de Bulnes. 7.- Interpretarà i mantindrà contacte perquè no quedarà més remei. El fas servir els diumenges per anar a pagès a la plaça Masadas. 8.- La primera dona és el tren capgirat que espera La Sagrera des de fa… Regalo tan malament com sé. Infusió. 9.- De moment aquests negociadors il·legals no ofereixen entrades per als concerts de la Bostik o les funcions de la Ivanow. A la Bostik i a la Ivanow. 10.- Xile sense cap. Particular manera que tenen els cavalls de passejar per La Sagrera\, per la cavalcada de Reis\, per exemple. Mig nu. 11.- En dues paraules\, lectors del nostre barri que consulten La Sagrerina. 12.- El bo que té La Sagrera. La parròquia del Crist Rei l’accentua. El Cardenal Tedeschini la repeteix. Repetit\, balconet en el qual podem trobar-hi un dels nostres darrers suports… sense màcula. \nMots encreuats word  \nSOLUCIONS \nNo t'ho guardis només per a tu!
URL:https://lasagrerina.com/activitat/mots-encreuats/
LOCATION:Casa teva\, On visquis\, Barcelona\, Barcelona\, 08027\, España
ORGANIZER;CN="La%20Sagrerina.com":MAILTO:lasagrerina@gmail.com
END:VEVENT
END:VCALENDAR