BEGIN:VCALENDAR
VERSION:2.0
PRODID:-//La Sagrerina - ECPv5.0.3.1//NONSGML v1.0//EN
CALSCALE:GREGORIAN
METHOD:PUBLISH
X-WR-CALNAME:La Sagrerina
X-ORIGINAL-URL:https://lasagrerina.com
X-WR-CALDESC:Events for La Sagrerina
BEGIN:VTIMEZONE
TZID:Europe/Andorra
BEGIN:DAYLIGHT
TZOFFSETFROM:+0100
TZOFFSETTO:+0200
TZNAME:CEST
DTSTART:20260329T010000
END:DAYLIGHT
BEGIN:STANDARD
TZOFFSETFROM:+0200
TZOFFSETTO:+0100
TZNAME:CET
DTSTART:20261025T010000
END:STANDARD
END:VTIMEZONE
BEGIN:VEVENT
DTSTART;TZID=Europe/Andorra:20260309T180000
DTEND;TZID=Europe/Andorra:20260309T193000
DTSTAMP:20260422T132527
CREATED:20260304T124219Z
LAST-MODIFIED:20260304T124219Z
UID:15318-1773079200-1773084600@lasagrerina.com
SUMMARY:Parlem amb Gemma Gómez\, autora de Nankurunaisa
DESCRIPTION:La Biblioteca La Sagrera – Marina Clotet acull una conversa amb l’autora Gemma Gómez al voltant del seu llibre Nankurunaisa. L’obra recull testimonis reals de dones que han patit violència masclista i que\, des de processos molt diversos\, han iniciat camins de recuperació\, empoderament i reconstrucció personal. \nSegons explica l’autora\, el llibre vol fer visibles històries reals amb la voluntat de sensibilitzar la població i\, especialment\, d’arribar a noies que estiguin passant per aquesta situació perquè puguin veure que hi ha una sortida. \n\nData: Dilluns 9 de març\nHora: 18 h\nLloc: Biblioteca La Sagrera – Marina Clotet \n \nNo t'ho guardis només per a tu!
URL:https://lasagrerina.com/activitat/parlem-amb-gemma-gomez-autora-de-nankurunaisa/
LOCATION:Biblioteca La Sagrera-Maria Clotet\, Carrer del Camp del Ferro\, 1\, 3\, Barcelona\, Barcelona\, 08027\, España
CATEGORIES:Activitat,Activitat destacada,Xerrades
ATTACH;FMTTYPE=image/png:https://lasagrerina.com/wp-content/uploads/2026/03/gemma-gomez-destacada.png
ORGANIZER;CN="Biblioteca%20La%20Sagrera%20-%20Maria%20Clotet":MAILTO:b.barcelona.mc@diba.cat
END:VEVENT
END:VCALENDAR