BEGIN:VCALENDAR
VERSION:2.0
PRODID:-//La Sagrerina - ECPv5.0.3.1//NONSGML v1.0//EN
CALSCALE:GREGORIAN
METHOD:PUBLISH
X-WR-CALNAME:La Sagrerina
X-ORIGINAL-URL:https://lasagrerina.com
X-WR-CALDESC:Events for La Sagrerina
BEGIN:VTIMEZONE
TZID:Europe/Andorra
BEGIN:DAYLIGHT
TZOFFSETFROM:+0100
TZOFFSETTO:+0200
TZNAME:CEST
DTSTART:20260329T010000
END:DAYLIGHT
BEGIN:STANDARD
TZOFFSETFROM:+0200
TZOFFSETTO:+0100
TZNAME:CET
DTSTART:20261025T010000
END:STANDARD
END:VTIMEZONE
BEGIN:VEVENT
DTSTART;TZID=Europe/Andorra:20260326T173000
DTEND;TZID=Europe/Andorra:20260326T180000
DTSTAMP:20260424T140116
CREATED:20260121T113232Z
LAST-MODIFIED:20260121T113232Z
UID:14879-1774546200-1774548000@lasagrerina.com
SUMMARY:RECOMANACIONS PRÀCTIQUES PER A LA INTRODUCCIÓ DELS PRIMERS ALIMENTS
DESCRIPTION:\n\nXerrada on rebrem eines per fomentar un vincle positiu amb el menjar. Compartirem diversos mètodes i recomanacions  \nd’aliments segons l’edat dels nadons. \nA càrrec de: Departament de pediatria del CAP de la Sagrera \nXerrada enmarcada dins del catàleg d’activitats del Grup de Criança de la Torre de la Sagrera \n\nPer poder realitzar la inscripció primer inicieu sessió amb el vostre compte d’usuari a la Torre de la sagrera:\n\nAccedir\n\nNo t'ho guardis només per a tu!
URL:https://lasagrerina.com/activitat/recomanacions-practiques-per-a-la-introduccio-dels-primers-aliments/
LOCATION:Torre de la Sagrera\, Berenguer de Palou 64-66\, Barcelona\, Barcelona\, 08027\, España
CATEGORIES:Activitat destacada,Xerrades
ATTACH;FMTTYPE=image/png:https://lasagrerina.com/wp-content/uploads/2026/01/menjar-1.png
ORGANIZER;CN="Torre%20de%20la%20Sagrera":MAILTO:info@torrelasagrera.cat
END:VEVENT
END:VCALENDAR