BEGIN:VCALENDAR
VERSION:2.0
PRODID:-//La Sagrerina - ECPv5.0.3.1//NONSGML v1.0//EN
CALSCALE:GREGORIAN
METHOD:PUBLISH
X-WR-CALNAME:La Sagrerina
X-ORIGINAL-URL:https://lasagrerina.com
X-WR-CALDESC:Events for La Sagrerina
BEGIN:VTIMEZONE
TZID:Europe/Andorra
BEGIN:DAYLIGHT
TZOFFSETFROM:+0100
TZOFFSETTO:+0200
TZNAME:CEST
DTSTART:20200329T010000
END:DAYLIGHT
BEGIN:STANDARD
TZOFFSETFROM:+0200
TZOFFSETTO:+0100
TZNAME:CET
DTSTART:20201025T010000
END:STANDARD
END:VTIMEZONE
BEGIN:VEVENT
DTSTART;VALUE=DATE:20200622
DTEND;VALUE=DATE:20200913
DTSTAMP:20260425T230324
CREATED:20200624T082621Z
LAST-MODIFIED:20200703T073939Z
UID:10118-1592791200-1599875999@lasagrerina.com
SUMMARY:Tecnologies Creatives
DESCRIPTION:Endinsa’t en la cultura Maker amb SokoTech durant juny\, juliol i setembre en el seu laboratori de la Sagrera ubicat a una antiga fàbrica de xocolata. En aquests tallers aprendràs processos de disseny i fabricació d’una càmera obscura\, l’origen de la fotografia mitjançant màquines de fabricació digital (impressores 3D\, talladora/grabadora làser i de vinil\, electrònica i programació)\, entre altres i després experimentarem com obtenir una imatge. \nDescobreix amb la imatge\, impressió 3D i molt més! \nApunta’t i experimenta amb la imatge\, la impressió 3D i el tall làser! Visitarem “La Perversa”\, per conèixer tots els secrets d’un estudi de fotografia analògica ubicat a la Nau Bostik. Construirem i experimentarem les nostres pròpies càmeres obscures fetes a partir de materials reciclats i les tecnologies més avançades! #STEAM #Impressió3D \nApunta’t al Casal d’Estiu \nNo t'ho guardis només per a tu!
URL:https://lasagrerina.com/activitat/taller-de-tecnologies-creatives/
LOCATION:Nau Bostik\, Carrer Ferran Turné\, 11\, Barcelona\, Barcelona\, 08027\, España
CATEGORIES:Activitat destacada,Infantil,Joves
ATTACH;FMTTYPE=image/jpeg:https://lasagrerina.com/wp-content/uploads/2020/06/Casal-dEstiu-web-destacada.jpg
ORGANIZER;CN="La%20Perversa":MAILTO:info@laperversa.com
END:VEVENT
END:VCALENDAR