BEGIN:VCALENDAR
VERSION:2.0
PRODID:-//La Sagrerina - ECPv5.0.3.1//NONSGML v1.0//EN
CALSCALE:GREGORIAN
METHOD:PUBLISH
X-WR-CALNAME:La Sagrerina
X-ORIGINAL-URL:https://lasagrerina.com
X-WR-CALDESC:Events for La Sagrerina
BEGIN:VTIMEZONE
TZID:Europe/Andorra
BEGIN:DAYLIGHT
TZOFFSETFROM:+0100
TZOFFSETTO:+0200
TZNAME:CEST
DTSTART:20260329T010000
END:DAYLIGHT
BEGIN:STANDARD
TZOFFSETFROM:+0200
TZOFFSETTO:+0100
TZNAME:CET
DTSTART:20261025T010000
END:STANDARD
END:VTIMEZONE
BEGIN:VEVENT
DTSTART;TZID=Europe/Andorra:20260129T173000
DTEND;TZID=Europe/Andorra:20260129T190000
DTSTAMP:20260424T162225
CREATED:20260121T112059Z
LAST-MODIFIED:20260121T112059Z
UID:14871-1769707800-1769713200@lasagrerina.com
SUMMARY:TOS\, MOCS I DIARREA. MEDICACIÓ MÉS FREQÜENTS
DESCRIPTION:\n\nXerrada on descobrirem  consells per a acompanyar als nens i nenes amb tos\, mocs o diarrea. Guia pràctica amb medicaments d’usos més freqüents. \nA càrrec de: Departament de pediatria del CAP de la Sagrera \nXerrada enmarcada dins del catàleg d’activitats del Grup de Criança de la Torre de la Sagrera \n\nPer poder realitzar la inscripció primer inicieu sessió amb el vostre compte d’usuari:\n\nAccedir\n\nNo t'ho guardis només per a tu!
URL:https://lasagrerina.com/activitat/tos-mocs-i-diarrea-medicacio-mes-frequents/
LOCATION:Torre de la Sagrera\, Berenguer de Palou 64-66\, Barcelona\, Barcelona\, 08027\, España
CATEGORIES:Activitat destacada,Xerrades
ATTACH;FMTTYPE=image/png:https://lasagrerina.com/wp-content/uploads/2026/01/mocs-i-tos.png
ORGANIZER;CN="Torre%20de%20la%20Sagrera":MAILTO:info@torrelasagrera.cat
END:VEVENT
END:VCALENDAR